BEGIN:VCALENDAR
VERSION:2.0
PRODID:-//OpenVan.camp//Calendar//EN
CALSCALE:GREGORIAN
METHOD:PUBLISH
BEGIN:VEVENT
UID:oce-shanghai-international-outdoor-camping-life-2026@openvan.camp
DTSTAMP:20260425T195545Z
DTSTART;VALUE=DATE:20260708
DTEND;VALUE=DATE:20260711
SUMMARY:OCE Shanghai International Outdoor Camping Life Exhibition 2026
DESCRIPTION:### OCE Shanghai 2026\n\nB2B outdoor camping lifestyle expo at the Shanghai New International Expo Center\, targeting more than 40\,000 professional buyers from retail\, e-commerce\, campsites and sports event organizers.\n\nFocus on young\, active camping lifestyle brands — gear\, mobility\, soft goods and campsite services for the rapidly growing Chinese outdoor market.
LOCATION:Shanghai New International Expo Center\, Shanghai\, CN
GEO:31.2312707;121.4700152
URL:https://www.globalomp.com/expo/25829
STATUS:CONFIRMED
CATEGORIES:Exhibition,RV,Camping
END:VEVENT
END:VCALENDAR
