BEGIN:VCALENDAR
VERSION:2.0
PRODID:-//OpenVan.camp//Calendar//EN
CALSCALE:GREGORIAN
METHOD:PUBLISH
BEGIN:VEVENT
UID:tokyo-camping-car-show-2026@openvan.camp
DTSTAMP:20260424T181116Z
DTSTART;VALUE=DATE:20260711
DTEND;VALUE=DATE:20260713
SUMMARY:Tokyo Camping Car Show 2026
DESCRIPTION:### Tokyo Camping Car Show 2026\n\nMajor Japanese indoor camping car exhibition organized by JRVA at Tokyo Big Sight\, with 100-200 camper vans\, motorhomes and RV accessories on display.\n\nPet-friendly format makes the show one of the most accessible large RV exhibitions in Japan\, with both kei-class and full-size camper builders represented.
LOCATION:Tokyo Big Sight\, East Halls 7 & 8\, Tokyo\, JP
GEO:35.6768601;139.7638947
URL:https://jrva-event.com/event/tokyo2026/
STATUS:CONFIRMED
CATEGORIES:Exhibition,RV,Camping
END:VEVENT
END:VCALENDAR
