BEGIN:VCALENDAR
VERSION:2.0
PRODID:-//OpenVan.camp//Calendar//EN
CALSCALE:GREGORIAN
METHOD:PUBLISH
BEGIN:VEVENT
UID:fernweh-big-thing-basecamp-2026@openvan.camp
DTSTAMP:20260424T154313Z
DTSTART;VALUE=DATE:20260709
DTEND;VALUE=DATE:20260713
SUMMARY:Fernweh Big Thing Basecamp 2026
DESCRIPTION:### Fernweh Big Thing Basecamp 2026\n\nCurated camping and skills experience for heavy-duty expedition vehicles and overland rigs\, set in the Big Sky country of Montana.\n\nThree days of real terrain\, hands-on sessions tailored to heavy rigs\, evening community gatherings and shared meals around the basecamp.
LOCATION:Big Sky\, Montana\, Big Sky\, US
GEO:45.2589644;-111.308725
URL:https://fernwehguidedexpeditions.com/expeditions-overland-tours/big-thing-camping-experience/
STATUS:CONFIRMED
CATEGORIES:Exhibition,RV,Camping
END:VEVENT
END:VCALENDAR
