BEGIN:VCALENDAR
VERSION:2.0
PRODID:-//OpenVan.camp//Calendar//EN
CALSCALE:GREGORIAN
METHOD:PUBLISH
BEGIN:VEVENT
UID:fcrv-66th-annual-campvention-2026@openvan.camp
DTSTAMP:20260424T171049Z
DTSTART;VALUE=DATE:20260705
DTEND;VALUE=DATE:20260712
SUMMARY:FCRV 66th Annual Campvention 2026
DESCRIPTION:### FCRV 66th Annual Campvention 2026\n\nFamily Campers and RVers' national rally bringing US and Canadian members together at the South Dakota State Fairgrounds in Huron.\n\nThe 2026 edition partners with Maga Ta-Hohpi (Huron Wetlands) on programming around wildlife and environmental awareness\, alongside outdoor adventures\, family games\, tours and education tracks.
LOCATION:South Dakota State Fairgrounds\, Huron\, US
GEO:41.1305303;-82.591828
URL:https://fcrv.org/campvention-2026/
STATUS:CONFIRMED
CATEGORIES:Exhibition,RV,Camping
END:VEVENT
END:VCALENDAR
