BEGIN:VCALENDAR
VERSION:2.0
PRODID:-//OpenVan.camp//Calendar//EN
CALSCALE:GREGORIAN
METHOD:PUBLISH
BEGIN:VEVENT
UID:camp-pride-2026@openvan.camp
DTSTAMP:20260424T171047Z
DTSTART;VALUE=DATE:20260702
DTEND;VALUE=DATE:20260707
SUMMARY:Camp Pride 2026
DESCRIPTION:### Camp Pride 2026\n\nFive-day LGBTQ+ adult (21+) summer camp focused on queer community building\, set on grounds about 45 minutes outside Eugene\, Oregon.\n\nCamper rig parking\, cabins and shower facilities accommodate vanlifers alongside tent campers. Programming includes a Land Back cookout and partners include Vanlife Pride.
LOCATION:Camp Pride Grounds (near Eugene\, Oregon)\, Eugene\, US
GEO:44.0505054;-123.0950506
URL:https://camp-pride.com/
STATUS:CONFIRMED
CATEGORIES:Exhibition,RV,Camping
END:VEVENT
END:VCALENDAR
