BEGIN:VCALENDAR
VERSION:2.0
PRODID:-//OpenVan.camp//Calendar//EN
CALSCALE:GREGORIAN
METHOD:PUBLISH
BEGIN:VEVENT
UID:wp-10757@coffee.bez.coffee
DTSTAMP:20260424T001051Z
DTSTART;VALUE=DATE:20260501
DTEND;VALUE=DATE:20260505
SUMMARY:Campervan Campout 2026 — фестиваль для ванлайферов и автопутешественников
DESCRIPTION:Campervan Campout 2026 пройдет с 1 по 4 мая на South of England Showground\, объединяя поклонников vanlife\, автопутешествий и кемпинга. В течение фестиваля участников ждет музыкальная программа с живыми выступлениями\, wellness-пространство с занятиями йогой и зона Street Food с разнообразными гастрономическими предложениями.\n\nВ Campout Hub проводятся лекции\, мастер-классы и встречи путешественников. На территории работает Shopping Village с туристическими и фестивальными товарами. Для семей и детей подготовлены активности: пляжный ангар\, метание топоров\, стрельба из лука и игровые зоны. Silent Disco предлагает уникальный ночной музыкальный опыт в наушниках. Участники могут размещаться в автодомах\, кемперах\, палатках или караванах.\n\nФестиваль ориентирован на дружелюбную атмосферу и открыт для всех\, включая домашних животных\, — отличный формат для отдыха с друзьями и семьей.\n\nhttps://www.youtube.com/watch?v=BDriAk3PU7M
LOCATION:Великобритания\, Ардингли\, South of England Showground\, Ардингли\, GB
GEO:51.05623686;-0.08810043
URL:https://www.outandaboutlive.co.uk/shows/campervan-campout-festival
STATUS:CONFIRMED
CATEGORIES:Exhibition,RV,Camping
END:VEVENT
END:VCALENDAR
