BEGIN:VCALENDAR
VERSION:2.0
PRODID:-//OpenVan.camp//Calendar//EN
CALSCALE:GREGORIAN
METHOD:PUBLISH
BEGIN:VEVENT
UID:freiheitsmobile-treffen-2026@openvan.camp
DTSTAMP:20260424T171039Z
DTSTART;VALUE=DATE:20260723
DTEND;VALUE=DATE:20260727
SUMMARY:Freiheitsmobile Treffen 2026
DESCRIPTION:### Freiheitsmobile Treffen 2026 — Final Edition\n\nThe largest brand-neutral vanlife and roadtrip gathering in Luxembourg\, welcoming any vehicle used as a mobile home. The 2026 edition is announced as the **final** Freiheitsmobile-Treffen.\n\nLakeside location at Weiswampach with community talks\, hands-on workshops and informal evening get-togethers around campfires.
LOCATION:Weiswampach Lakes\, Weiswampach\, LU
GEO:50.139719;6.0753153
URL:https://freiheitsmobil.com/
STATUS:CONFIRMED
CATEGORIES:Exhibition,RV,Camping
END:VEVENT
END:VCALENDAR
