BEGIN:VCALENDAR
VERSION:2.0
PRODID:-//OpenVan.camp//Calendar//EN
CALSCALE:GREGORIAN
METHOD:PUBLISH
BEGIN:VEVENT
UID:mabon-festival-2026@openvan.camp
DTSTAMP:20260424T171047Z
DTSTART;VALUE=DATE:20260717
DTEND;VALUE=DATE:20260720
SUMMARY:Mabon Festival 2026
DESCRIPTION:### Mabon Festival 2026\n\nMusic\, nature and arts festival held by Lago delle Lame in the Ligurian Apennines\, with an integrated camping area equipped for tents and campers.\n\nLine-up combines live music and DJ sets with creative workshops in a forested mountain setting popular with the campervan crowd.
LOCATION:Lago delle Lame\, Rezzoaglio\, IT
GEO:44.5259967;9.387267
URL:https://mabonfestival.it/il-festival/
STATUS:CONFIRMED
CATEGORIES:Exhibition,RV,Camping
END:VEVENT
END:VCALENDAR
