BEGIN:VCALENDAR
VERSION:2.0
PRODID:-//OpenVan.camp//Calendar//EN
CALSCALE:GREGORIAN
METHOD:PUBLISH
BEGIN:VEVENT
UID:kastenwagentreffen-kluesserath-2026@openvan.camp
DTSTAMP:20260424T171048Z
DTSTART;VALUE=DATE:20260703
DTEND;VALUE=DATE:20260706
SUMMARY:Kastenwagentreffen Klüsserath 2026
DESCRIPTION:### Kastenwagentreffen Klüsserath 2026\n\nBrand-neutral meetup for panel van (Kastenwagen) camper owners at Reisemobilpark Klüsserath on the Moselle river. Up to 350-400 vans gather over the weekend.\n\nProgram includes vineyard tours with wine tastings\, live music\, DJ sets\, community talks and informal exchange between van owners regardless of brand.
LOCATION:Reisemobilpark Klüsserath\, Klüsserath\, DE
GEO:49.8423921;6.8471255
URL:https://www.kastenwagentreffen.de/kastenwagentreffen-2026/
STATUS:CONFIRMED
CATEGORIES:Exhibition,RV,Camping
END:VEVENT
END:VCALENDAR
