BEGIN:VCALENDAR
VERSION:2.0
PRODID:-//OpenVan.camp//Calendar//EN
CALSCALE:GREGORIAN
METHOD:PUBLISH
BEGIN:VEVENT
UID:coffs-coast-4wd-caravan-expo-2026@openvan.camp
DTSTAMP:20260424T154313Z
DTSTART;VALUE=DATE:20260619
DTEND;VALUE=DATE:20260622
SUMMARY:Coffs Coast 4WD & Caravan Expo 2026
DESCRIPTION:### Coffs Coast 4WD & Caravan Expo 2026\n\nThe Coffs Coast 4WD & Caravan Expo at Coffs Harbour Showground — showcasing 4WD vehicles\, caravans\, campervans and outdoor equipment on the NSW mid-north coast.\n\n### Features\n\n- 4WD and off-road vehicles\n- Caravans and campervans\n- Camping and outdoor gear\n- Adventure travel accessories
LOCATION:Coffs Harbour Showground\, Coffs Harbour\, AU
GEO:-30.2962407;153.1135293
URL:https://www.outdoorlivingcaravanexpo.com.au/
STATUS:CONFIRMED
CATEGORIES:Exhibition,RV,Camping
END:VEVENT
END:VCALENDAR
