BEGIN:VCALENDAR
VERSION:2.0
PRODID:-//OpenVan.camp//Calendar//EN
CALSCALE:GREGORIAN
METHOD:PUBLISH
BEGIN:VEVENT
UID:bristol-volksfest-2026@openvan.camp
DTSTAMP:20260425T164700Z
DTSTART;VALUE=DATE:20260612
DTEND;VALUE=DATE:20260615
SUMMARY:Bristol Volksfest 2026
DESCRIPTION:### Bristol Volksfest 2026\n\nBristol Volksfest — a grassroots VW show at Birches Farm near Bristol\, celebrating classic Beetles\, campervans\, and self-built vans.\n\n### About\n\n- Community-driven event for VW enthusiasts and vanlifers\n- Classic Beetles\, Split and Bay window campervans on display\n- Self-build and conversion showcases\n- Relaxed atmosphere welcoming all VW and campervan types
LOCATION:Birches Farm\, Bristol\, GB
GEO:51.4538022;-2.5972985
URL:https://www.bristolvolksfest.co.uk/
STATUS:CONFIRMED
CATEGORIES:Exhibition,RV,Camping
END:VEVENT
END:VCALENDAR
