BEGIN:VCALENDAR
VERSION:2.0
PRODID:-//OpenVan.camp//Calendar//EN
CALSCALE:GREGORIAN
METHOD:PUBLISH
BEGIN:VEVENT
UID:alive-vdubbin-festival-2026@openvan.camp
DTSTAMP:20260425T152601Z
DTSTART;VALUE=DATE:20260604
DTEND;VALUE=DATE:20260608
SUMMARY:Alive & V-Dubbin Festival 2026
DESCRIPTION:### Alive & V-Dubbin Festival 2026\n\nAlive & V-Dubbin Festival at Haughley Park in Suffolk — a VW festival celebrating campervans\, Beetles\, and the VW lifestyle.\n\n### Features\n\n- Classic and modern VW vehicle showcase\n- Live music over multiple stages\n- Family activities and entertainment\n- Camping on site for attendees with VW vehicles and others\n- Relaxed community atmosphere
LOCATION:Haughley Park\, Stowmarket\, GB
GEO:52.1878147;0.9973428
URL:https://www.aliveandvdubbin.co.uk/
STATUS:CONFIRMED
CATEGORIES:Exhibition,RV,Camping
END:VEVENT
END:VCALENDAR
