BEGIN:VCALENDAR
VERSION:2.0
PRODID:-//OpenVan.camp//Calendar//EN
CALSCALE:GREGORIAN
METHOD:PUBLISH
BEGIN:VEVENT
UID:wp-10759@coffee.bez.coffee
DTSTAMP:20260424T001051Z
DTSTART;VALUE=DATE:20260515
DTEND;VALUE=DATE:20260518
SUMMARY:Southern Motorhome & Campervan Show в Ньюбери 2026
DESCRIPTION:С 15 по 17 мая 2026 года в Ньюбери пройдёт Southern Motorhome & Campervan Show — событие\, объединяющее поклонников путешествий на автодомах и кемперах. Посетителям будет представлен широкий выбор новых и подержанных транспортных средств от региональных и национальных дилеров\, а также тысячи товаров и аксессуаров для кемпинга.\n\nМероприятие рассчитано как на опытных путешественников\, так и на новичков. Просторные поля для кемпинга подойдут для размещения в автодомах\, кемперах\, палатках и караванах. Все кемпинговые билеты включают четыре ночи музыкальной программы в духе 60-х годов. Вечером в субботу состоится концерт с участием The New Casuals\, The Fortunes и New Amen Corner\, билеты на который приобретаются отдельно.\n\nhttps://www.youtube.com/watch?v=l6KirmrUyY0
LOCATION:Великобритания\, Ньюбери\, Newbury Showground\, Ньюбери\, GB
GEO:51.45606202;-1.30323543
URL:https://www.outandaboutlive.co.uk/shows/southern-motorhome-campervan-show
STATUS:CONFIRMED
CATEGORIES:Exhibition,RV,Camping
END:VEVENT
END:VCALENDAR
