BEGIN:VCALENDAR
VERSION:2.0
PRODID:-//OpenVan.camp//Calendar//EN
CALSCALE:GREGORIAN
METHOD:PUBLISH
BEGIN:VEVENT
UID:tampa-bay-summer-rv-show-2026@openvan.camp
DTSTAMP:20260424T140943Z
DTSTART;VALUE=DATE:20260618
DTEND;VALUE=DATE:20260622
SUMMARY:Tampa Bay Summer RV Show 2026
DESCRIPTION:### Tampa Bay Summer RV Show 2026\n\nThe Tampa Bay Summer RV Show at the Florida State Fairgrounds\, organized by the Florida RV Trade Association (FRVTA).\n\n### Features\n\n- Motorhomes\, travel trailers\, fifth wheels\, and camper vans\n- RV accessories and aftermarket products\n- Dealer inventory at show pricing\n- 4-day event perfect for summer RV shopping in Florida
LOCATION:Florida State Fairgrounds\, Tampa\, US
GEO:27.9449854;-82.4583107
URL:https://www.frvta.org/show/tampa-bay-summer-rv-show/
STATUS:CONFIRMED
CATEGORIES:Exhibition,RV,Camping
END:VEVENT
END:VCALENDAR
