BEGIN:VCALENDAR
VERSION:2.0
PRODID:-//OpenVan.camp//Calendar//EN
CALSCALE:GREGORIAN
METHOD:PUBLISH
BEGIN:VEVENT
UID:bodrum-kamp-ve-karavan-fuari-2026@openvan.camp
DTSTAMP:20260424T140818Z
DTSTART;VALUE=DATE:20260626
DTEND;VALUE=DATE:20260701
SUMMARY:Bodrum Kamp ve Karavan Fuarı 2026
DESCRIPTION:### Bodrum Kamp ve Karavan Fuarı 2026\n\nThe 3rd Bodrum Camp and Caravan Fair at the Herodot Culture Center\, organised by İdeal Fuar with support from Bodrum Municipality.\n\n### About the fair\n\n- Camping and caravan industry exhibitors\n- Tiny house and outdoor living displays\n- Annual event bringing together enthusiasts and professionals in the Bodrum region\n- Set in Bodrum's cultural centre by the Aegean coast
LOCATION:Herodot Kültür Merkezi\, Bodrum\, TR
URL:https://fuarlist.com/fuar/bodrum-kamp-fuari/
STATUS:CONFIRMED
CATEGORIES:Exhibition,RV,Camping
END:VEVENT
END:VCALENDAR
