BEGIN:VCALENDAR
VERSION:2.0
PRODID:-//OpenVan.camp//Calendar//EN
CALSCALE:GREGORIAN
METHOD:PUBLISH
BEGIN:VEVENT
UID:kochuyushchiy-krasnyy-slon-2026@openvan.camp
DTSTAMP:20260424T171042Z
DTSTART;VALUE=DATE:20260612
DTEND;VALUE=DATE:20260615
SUMMARY:Кочующий Красный Слон 2026
DESCRIPTION:### Кочующий Красный Слон 2026\n\nЭтнографический фестиваль автопутешествий в живописном старинном Палехе\, Ивановская область.\n\n### Программа\n\n- 20+ маршрутов разного уровня сложности\n- 20+ спикеров о культуре путешествий и освоении территорий\n- Этнографическая программа с местными традициями и ремёслами\n- Семейные мероприятия и детские площадки\n- Вечерние совместные ужины\n- Ожидается 2 000+ участников и 500+ транспортных средств\n- Кемперы и автодома приветствуются
LOCATION:Палех\, Ивановская область\, Палех\, RU
URL:https://redslonfest.ru/
STATUS:CONFIRMED
CATEGORIES:Exhibition,RV,Camping
END:VEVENT
END:VCALENDAR
