BEGIN:VCALENDAR
VERSION:2.0
PRODID:-//OpenVan.camp//Calendar//EN
CALSCALE:GREGORIAN
METHOD:PUBLISH
BEGIN:VEVENT
UID:camper-marmalade-2026@openvan.camp
DTSTAMP:20260425T152039Z
DTSTART;VALUE=DATE:20260612
DTEND;VALUE=DATE:20260615
SUMMARY:Camper Marmalade 2026
DESCRIPTION:### Camper Marmalade 2026\n\nCamper Marmalade returns to Bramley Farm in Polegate\, East Sussex\, for a laid-back family-friendly weekend festival.\n\n### What's included\n\n- Live music across multiple stages\n- Street food village\n- VIP area (new for 2026)\n- Epic kids zone (new for 2026)\n- Cabaret Tent (new for 2026)\n- Campervan camping on site
LOCATION:Bramley Farm\, Polegate\, Polegate\, GB
URL:https://campermarmalade.onlineticketseller.com/
STATUS:CONFIRMED
CATEGORIES:Exhibition,RV,Camping
END:VEVENT
END:VCALENDAR
