BEGIN:VCALENDAR
VERSION:2.0
PRODID:-//OpenVan.camp//Calendar//EN
CALSCALE:GREGORIAN
METHOD:PUBLISH
BEGIN:VEVENT
UID:sva-auvergne-2026@openvan.camp
DTSTAMP:20260424T171046Z
DTSTART;VALUE=DATE:20260626
DTEND;VALUE=DATE:20260629
SUMMARY:SVA Auvergne 2026
DESCRIPTION:### SVA Auvergne 2026\n\nThe 8th SVA Auvergne (Salon Véhicule Aventure) near Clermont-Ferrand brings together adventure vehicles of all kinds: motorcycles\, quads\, SUVs\, pickups\, vans\, campers\, and expedition trucks.\n\n### Highlights\n\n- Duster Camp and Sprinter 4×4 dedicated meetings\n- Test drives on off-road terrain\n- Adventure vehicle manufacturers and converters\n- Entrance fee: €5 (€4 online)\, children under 12 free
LOCATION:Les Martres-d'Artière Fairgrounds\, Les Martres-d'Artière\, FR
URL:https://salon-vehicule-aventure.fr/auvergne-2026/
STATUS:CONFIRMED
CATEGORIES:Exhibition,RV,Camping
END:VEVENT
END:VCALENDAR
