BEGIN:VCALENDAR
VERSION:2.0
PRODID:-//OpenVan.camp//Calendar//EN
CALSCALE:GREGORIAN
METHOD:PUBLISH
BEGIN:VEVENT
UID:en-van-simone-stella-plage-2026@openvan.camp
DTSTAMP:20260424T171048Z
DTSTART;VALUE=DATE:20260626
DTEND;VALUE=DATE:20260629
SUMMARY:En Van Simone Stella Plage 2026
DESCRIPTION:### En Van Simone — Stella Plage 2026\n\nThe first seaside edition of the En Van Simone vanlife festival. Campervans and vans parked facing the ocean at Camping de la Mer in Stella-Plage\, Pas-de-Calais.\n\n### Programme\n\n- Village of exhibitors (van builders\, accessories\, outdoor gear)\n- Vanlife cinema space\n- Workshops and conferences\n- Live concerts\n- Large camping area open to all campervan types
LOCATION:Camping de la Mer\, Stella-Plage\, FR
URL:https://www.evs-festival.fr/
STATUS:CONFIRMED
CATEGORIES:Exhibition,RV,Camping
END:VEVENT
END:VCALENDAR
