BEGIN:VCALENDAR
VERSION:2.0
PRODID:-//OpenVan.camp//Calendar//EN
CALSCALE:GREGORIAN
METHOD:PUBLISH
BEGIN:VEVENT
UID:fete-des-campingcaristes-de-la-cheze-2026@openvan.camp
DTSTAMP:20260424T171044Z
DTSTART;VALUE=DATE:20260625
DTEND;VALUE=DATE:20260629
SUMMARY:Fête des Camping-Caristes de La Chèze 2026
DESCRIPTION:### Fête des Camping-Caristes de La Chèze 2026\n\nThe 16th edition of the Fête des Camping-Caristes in La Chèze\, Côtes d'Armor\, Brittany. A warm\, family-friendly gathering for motorhome enthusiasts held annually in late June.\n\n### About the event\n\n- Traditional community event bringing camping-car fans together from across France\n- Located in the charming Breton village of La Chèze near Loudéac\n- Relaxed\, welcoming atmosphere for all types of motorhomes and campervans
LOCATION:La Chèze\, La Chèze\, FR
URL:https://lacheze.bzh/
STATUS:CONFIRMED
CATEGORIES:Exhibition,RV,Camping
END:VEVENT
END:VCALENDAR
