BEGIN:VCALENDAR
VERSION:2.0
PRODID:-//OpenVan.camp//Calendar//EN
CALSCALE:GREGORIAN
METHOD:PUBLISH
BEGIN:VEVENT
UID:vanlife-hautsdefrance-2026@openvan.camp
DTSTAMP:20260424T171046Z
DTSTART;VALUE=DATE:20260606
DTEND;VALUE=DATE:20260610
SUMMARY:Vanlife Hauts-de-France 2026
DESCRIPTION:### Vanlife Hauts-de-France 2026\n\nA vanlife community gathering in Calais for enthusiasts from northern France and Belgium. Set at the Bassin Ouest harbour area\, the event brings together van converters\, equipment suppliers\, and travelers.\n\n### Features\n\n- Van exhibitors and conversion specialists\n- Community meetups and shared routes\n- Seaside location in northern France
LOCATION:Bassin Ouest\, Calais\, Calais\, FR
URL:https://vanlifehautsdefrance.fr/
STATUS:CONFIRMED
CATEGORIES:Exhibition,RV,Camping
END:VEVENT
END:VCALENDAR
