BEGIN:VCALENDAR
VERSION:2.0
PRODID:-//OpenVan.camp//Calendar//EN
CALSCALE:GREGORIAN
METHOD:PUBLISH
BEGIN:VEVENT
UID:caravaning-euskadi-2026@openvan.camp
DTSTAMP:20260424T140821Z
DTSTART;VALUE=DATE:20260507
DTEND;VALUE=DATE:20260511
SUMMARY:Caravaning Euskadi 2026
DESCRIPTION:### О выставке\n\nCaravaning Euskadi — ведущая испанская ярмарка автодомов и кемперов\, проходящая в северной части страны\, в Стране Басков\, на площадке Выставочного центра Бильбао (BEC!). Третье издание мероприятия объединяет невероятное разнообразие кемперов\, автодомов и моторхоумов на площади 10 000 квадратных метров.\n\n### Что вас ждёт\n\nНа выставке представлено более 40 брендов: десятки экспонентов демонстрируют новые и подержанные автомобили\, аксессуары\, сервисные услуги и товары для туристического образа жизни. Посетители могут сравнить полный спектр предложений — от компактных фургонов-кемперов до роскошных автодомов.\n\n### Практическая информация\n\nЯрмарка открывается в четверг 7 мая в 16:00 и работает до воскресенья 10 мая. Часы работы: четверг 16:00–20:00\; пятница и суббота 11:00–20:00\; воскресенье 11:00–19:30. Вход: в четверг — €3\, с пятницы по воскресенье — €5\; дети до 12 лет — бесплатно. Все цены включают НДС.
LOCATION:BEC! Выставочный центр Бильбао\, Баракальдо\, ES
GEO:43.2910436;-2.9901551
URL:https://caravaningeuskadi.com/
STATUS:CONFIRMED
CATEGORIES:Exhibition,RV,Camping
END:VEVENT
END:VCALENDAR
