BEGIN:VCALENDAR
VERSION:2.0
PRODID:-//OpenVan.camp//Calendar//EN
CALSCALE:GREGORIAN
METHOD:PUBLISH
BEGIN:VEVENT
UID:bendigo-caravan-outdoor-leisure-roadshow-2026@openvan.camp
DTSTAMP:20260424T154316Z
DTSTART;VALUE=DATE:20260529
DTEND;VALUE=DATE:20260601
SUMMARY:Bendigo Caravan and Outdoor Leisure Roadshow 2026
DESCRIPTION:### О выставке\n\nBendigo Caravan and Outdoor Leisure Roadshow — традиционное мероприятие центральной Виктории\, представляющее лучшие продукты для туристического и активного отдыха в самом сердце регионального штата. Организатор — Expoz Group Pty Ltd\; трёхдневное мероприятие проходит в двух больших выставочных павильонах на территории Bendigo Showgrounds.\n\n### Что вас ждёт\n\nНа выставке представлены новинки от ведущих брендов: кемперы\, прицепы\, автодома\, электровелосипеды\, внедорожники и туристические аксессуары. Программа включает живые выступления\, шоу экстремальных велосипедистов\, бесплатные детские мастер-классы по приготовлению пиццы и творчеству\, контактный зоопарк и демонстрации продуктов.\n\n### Практическая информация\n\nВыставка работает с 9:00 до 16:00 ежедневно. Стоимость входа: взрослые — $18\, льготный — $15\, дети в сопровождении взрослых — бесплатно. Бесплатная парковка на площадке. Площадка доступна для инвалидных колясок. Собаки на поводке приветствуются.
LOCATION:Выставочный комплекс Бенджиго\, Бенджиго\, AU
GEO:-36.743012;144.2737154
URL:https://caravanroadshows.com.au/bendigo-caravan-roadshow/
STATUS:CONFIRMED
CATEGORIES:Exhibition,RV,Camping
END:VEVENT
END:VCALENDAR
