BEGIN:VCALENDAR
VERSION:2.0
PRODID:-//OpenVan.camp//Calendar//EN
CALSCALE:GREGORIAN
METHOD:PUBLISH
BEGIN:VEVENT
UID:hunter-valley-outdoor-show-2026@openvan.camp
DTSTAMP:20260424T171042Z
DTSTART;VALUE=DATE:20260522
DTEND;VALUE=DATE:20260525
SUMMARY:Hunter Valley Outdoor Show 2026
DESCRIPTION:### О выставке\n\nHunter Valley Outdoor Show (бывш. Hunter Valley Caravan\, Camping\, 4WD\, Fish & Boat Show) — крупнейшая и старейшая выставка индустрии активного отдыха в Новом Южном Уэльсе\, история которой насчитывает почти 30 лет. Ежегодно проходит на территории Maitland Showground и является ключевым событием для сообщества любителей активного отдыха региона Хантер.\n\n### Что вас ждёт\n\nБолее 280 экспонентов представляют новейшие модели кемперов\, прицепов\, автодомов\, внедорожников\, туристического снаряжения\, рыболовного оборудования и лодок. Выступления местных объединений\, живые развлечения и разнообразное питание делают выставку отличным семейным мероприятием.\n\n### Практическая информация\n\nВыставка работает с 9:00 до 16:00 ежедневно. Стоимость входа: взрослые — $16 онлайн / $20 у кассы\; пенсионеры — $12 онлайн / $15 у кассы\; дети 0–16 лет — бесплатно. Билеты и скидочные ваучеры доступны на сайте Rural Scene.
LOCATION:Выставочный комплекс Мейтленд\, Мейтленд\, AU
GEO:-32.7316683;151.5511123
URL:https://www.ruralscene.com.au/hunter-valley-show
STATUS:CONFIRMED
CATEGORIES:Exhibition,RV,Camping
END:VEVENT
END:VCALENDAR
