BEGIN:VCALENDAR
VERSION:2.0
PRODID:-//OpenVan.camp//Calendar//EN
CALSCALE:GREGORIAN
METHOD:PUBLISH
BEGIN:VEVENT
UID:clubfest-2026@openvan.camp
DTSTAMP:20260425T152559Z
DTSTART;VALUE=DATE:20260522
DTEND;VALUE=DATE:20260527
SUMMARY:ClubFest 2026
DESCRIPTION:### О фестивале\n\nClubFest — главный летний праздник Клуба автодомов и прицепов Великобритании\, проходящий в живописной усадьбе Келмарш-Холл XVIII века в Нортгемптоншире. Пятидневное мероприятие открыто исключительно для членов клуба и их гостей: живые концерты\, активный отдых и тёплая атмосфера сообщества на фоне великолепного паркового пейзажа.\n\n### Концерты 2026 года\n\nХедлайнеры: Bay City Rollers (пятница)\, трибьют Тины Тёрнер «What's Love Got to Do With It?» (воскресенье)\, трибьют Нила Даймонда «A Beautiful Noise» (понедельник)\, а также Badness\, Kaiser Monkey Killers и Mumford and Sons Story.\n\n### Активности\n\nТематические зоны: велнес\, изучение природы\, детские развлечения\, водные виды спорта\, выставки собак\, соревнования и тренинги. Варианты размещения: стандарт\, экологичные\, доступные и глэмпинг.
LOCATION:Усадьба Келмарш-Холл\, Келмарш\, GB
GEO:52.409514;-0.9190033
URL:https://www.caravanclub.co.uk/clubfest/
STATUS:CONFIRMED
CATEGORIES:Exhibition,RV,Camping
END:VEVENT
END:VCALENDAR
