BEGIN:VCALENDAR
VERSION:2.0
PRODID:-//OpenVan.camp//Calendar//EN
CALSCALE:GREGORIAN
METHOD:PUBLISH
BEGIN:VEVENT
UID:cranbourne-caravanning-adventure-leisurefest-2026@openvan.camp
DTSTAMP:20260424T140819Z
DTSTART;VALUE=DATE:20260508
DTEND;VALUE=DATE:20260511
SUMMARY:Cranbourne Caravanning & Adventure Leisurefest 2026
DESCRIPTION:### О выставке\n\nCranbourne Caravanning & Adventure Leisurefest — новейшая выставка кемперов и активного отдыха юго-восточного Мельбурна\, организованная Caravan Industry Victoria. Мероприятие проходит на легендарном ипподроме Cranbourne Racecourse и представляет лучшие образцы кемперов\, автодомов\, моторхоумов\, прицепов и снаряжения для активного отдыха.\n\n### Что вас ждёт\n\nПосетители могут осмотреть сотни экспонентов с новейшими моделями от ведущих брендов. Программа включает развлечения на площадке\, точки питания и активности для всей семьи — идеальный вариант как для опытных путешественников\, так и для новичков.\n\n### Практическая информация\n\nИпподром Cranbourne удобно расположен для жителей юго-восточных пригородов Мельбурна\, есть парковка. Билеты доступны онлайн через Oztix и у кассы. Приложение Caravan Industry Victoria предоставляет карты и каталог экспонентов.
LOCATION:Ипподром Крэнборн\, Крэнборн\, AU
GEO:-38.1194885;145.2741122
URL:https://www.caravanshow.com.au/
STATUS:CONFIRMED
CATEGORIES:Exhibition,RV,Camping
END:VEVENT
END:VCALENDAR
