BEGIN:VCALENDAR
VERSION:2.0
PRODID:-//OpenVan.camp//Calendar//EN
CALSCALE:GREGORIAN
METHOD:PUBLISH
BEGIN:VEVENT
UID:cairns-outdoor-adventure-plus-home-lifestyle-expo-2026@openvan.camp
DTSTAMP:20260424T140819Z
DTSTART;VALUE=DATE:20260508
DTEND;VALUE=DATE:20260511
SUMMARY:Cairns Outdoor Adventure plus Home & Lifestyle Expo 2026
DESCRIPTION:### О выставке\n\nCairns Outdoor Adventure plus Home & Lifestyle Expo — главная выставка приключений и стиля жизни в Квинсленде\, ежегодно проходящая на территории Cairns Showgrounds. На трёхдневном мероприятии собраны лучшие образцы кемперов\, прицепов\, гибридных трейлеров\, внедорожников\, туристического снаряжения\, лодок\, гидроциклов и рыболовного оборудования.\n\n### Что вас ждёт\n\nПосетители могут ознакомиться с новинками от ведущих австралийских брендов в сфере активного отдыха. На выставке также представлена экспозиция товаров для дома и стиля жизни. Программа включает семейные развлечения\, живые демонстрации\, конкурсы и розыгрыши призов.\n\n### Практическая информация\n\nВыставка работает с пятницы по воскресенье\, ворота открываются в 8:30. Билеты можно приобрести онлайн заранее. На территории выставочного комплекса есть парковка.
LOCATION:Выставочный комплекс Кэрнс\, Кэрнс\, AU
GEO:-16.9267001;145.7623158
URL:https://cairnsexpo.com.au/
STATUS:CONFIRMED
CATEGORIES:Exhibition,RV,Camping
END:VEVENT
END:VCALENDAR
