BEGIN:VCALENDAR
VERSION:2.0
PRODID:-//OpenVan.camp//Calendar//EN
CALSCALE:GREGORIAN
METHOD:PUBLISH
BEGIN:VEVENT
UID:camping-china-international-rv-camping-exhibition-2026@openvan.camp
DTSTAMP:20260425T194508Z
DTSTART;VALUE=DATE:20260520
DTEND;VALUE=DATE:20260524
SUMMARY:Camping+ China International RV & Camping Exhibition 2026
DESCRIPTION:### О выставке\n\nCamping+ (Китайская международная выставка автодомов и кемпинга) — ведущая в Азии специализированная выставка\, посвящённая рекреационным транспортным средствам\, прицепам\, кемпинговому оборудованию и активному образу жизни. Ежегодно проходит в Шанхае и собирает производителей\, дилеров и любителей из Китая и всего мира.\n\n### Особенности\n\nВыставка охватывает широкий спектр продукции: автодома\, каравана\, снаряжение для путешествий на машине\, мебель для отдыха\, решения для глэмпинга и системы управления кемпингами. Мероприятие является ключевой площадкой для деловых контактов и обсуждения тенденций быстрорастущего китайского рынка кемпинга.
LOCATION:Национальный выставочный и конгресс-центр (Шанхай)\, Шанхай\, CN
GEO:31.1777927;121.238138
URL:https://www.camping-china.com.cn/
STATUS:CONFIRMED
CATEGORIES:Exhibition,RV,Camping
END:VEVENT
END:VCALENDAR
