BEGIN:VCALENDAR
VERSION:2.0
PRODID:-//OpenVan.camp//Calendar//EN
CALSCALE:GREGORIAN
METHOD:PUBLISH
BEGIN:VEVENT
UID:camper-vanlife-event-messe-springe-2026@openvan.camp
DTSTAMP:20260424T140820Z
DTSTART;VALUE=DATE:20260508
DTEND;VALUE=DATE:20260511
SUMMARY:Camper & Vanlife Event Messe Springe 2026
DESCRIPTION:### О фестивале\n\nCamper & Vanlife Event Messe Springe — крупнейшая выставка-фестиваль для самодельных кемперов и альтернативного кемпинга в Нижней Саксонии\, организованная Mikroabenteuer Events. Мероприятие проходит на 10 000 м² в лесном парке исторического охотничьего замка Ягдшлосс Шпринге вблизи Ганновера.\n\n### Программа\n\nВыставки самостоятельно переоборудованных фургонов\, байкпакинг-тренды\, мастер-классы\, фудкорт\, живая музыка и детская программа. Расписание: пятница 18:00–21:00 (вечерний превью)\, суббота 11:00–19:00\, воскресенье 10:00–17:00.
LOCATION:Охотничий замок Ягдшлосс Шпринге\, Шпринге\, DE
GEO:52.189253;9.573614
URL:https://www.mikroabenteuer.events/
STATUS:CONFIRMED
CATEGORIES:Exhibition,RV,Camping
END:VEVENT
END:VCALENDAR
