BEGIN:VCALENDAR
VERSION:2.0
PRODID:-//OpenVan.camp//Calendar//EN
CALSCALE:GREGORIAN
METHOD:PUBLISH
BEGIN:VEVENT
UID:messe-bexbach-2026@openvan.camp
DTSTAMP:20260424T140821Z
DTSTART;VALUE=DATE:20260429
DTEND;VALUE=DATE:20260504
SUMMARY:Messe Bexbach 2026
DESCRIPTION:### О выставке\n\nMesse Bexbach — старейшая выставка кемпинга и отдыха на природе в Юго-Западной Германии\, в 2026 году отмечающая своё 65-летие под девизом «От тента до ванлайфа — 65 лет увлечения кемпингом». За пять дней выставку посещают более 45 000 гостей\; сотни экспонентов представляют кемперы\, прицепы\, автодома\, снаряжение для отдыха и туристические аксессуары.\n\n### Особенности\n\nВ программе — симулятор вождения ADAC\, станция взвешивания прицепов TÜV\, sim-рейсинг\, весенняя ярмарка\, пикник ретроавтомобилей 1 мая\, блошиный рынок кемперов в субботу и семейная программа в воскресенье.
LOCATION:Блюменгартен Бекках\, Бекках\, DE
GEO:49.3422794;7.2618759
URL:https://messe-bexbach.de/
STATUS:CONFIRMED
CATEGORIES:Exhibition,RV,Camping
END:VEVENT
END:VCALENDAR
