BEGIN:VCALENDAR
VERSION:2.0
PRODID:-//OpenVan.camp//Calendar//EN
CALSCALE:GREGORIAN
METHOD:PUBLISH
BEGIN:VEVENT
UID:farkop-ekspo-2026@openvan.camp
DTSTAMP:20260424T140822Z
DTSTART;VALUE=DATE:20260529
DTEND;VALUE=DATE:20260601
SUMMARY:Фаркоп Экспо 2026
DESCRIPTION:### О выставке\n\nФаркоп Экспо — первая в России специализированная выставка нежилых прицепов и буксировочного оборудования для активного отдыха и путешествий. Проводится в мае 2026 года одновременно с выставкой автодомов «Кемпер Экспо» (Caravanex) на площадке Арт-квартала «Патефонка» в Коломне.\n\n### Что представлено\n\n- Прицепы для мотоциклов\, квадроциклов и лодок\n- Спортивные\, туристические и грузовые прицепы\n- Кемпинговое и автономное оборудование\n- Аксессуары для буксировки и автопутешествий\n\n### Примечание\n\nФаркоп Экспо проходит одновременно с Кемпер Экспо (Caravanex) — главной российской выставкой автодомов и жилых прицепов — на той же площадке.
LOCATION:Арт-квартал «Патефонка»\, Коломна\, RU
GEO:55.0938743;38.7670121
URL:https://farkopexpo.ru
STATUS:CONFIRMED
CATEGORIES:Exhibition,RV,Camping
END:VEVENT
END:VCALENDAR
