BEGIN:VCALENDAR
VERSION:2.0
PRODID:-//OpenVan.camp//Calendar//EN
CALSCALE:GREGORIAN
METHOD:PUBLISH
BEGIN:VEVENT
UID:arbafest-2026@openvan.camp
DTSTAMP:20260424T171048Z
DTSTART;VALUE=DATE:20260611
DTEND;VALUE=DATE:20260615
SUMMARY:Арба-Фест 2026
DESCRIPTION:### О фестивале\n\nАрба-Фест — всероссийский автотуристический и культурный фестиваль\, который ежегодно проводится в Бавлах\, Республика Татарстан. Каждый год фестиваль посвящён культуре одного из народов России. Пятый юбилейный выпуск посвящён **русской культуре** и называется «Еремеевская ярмарка» — в честь народного праздника Дня Еремея (13 июня).\n\n### Тема: Еремеевская ярмарка\n\n13 июня — день Еремея-бобовника и Еремея Распрягальника: время завершения посевных работ\, благодарности домашним животным и природе\, символическое начало настоящего лета.\n\n### Программа\n\n- Заезд участников и вечерние развлечения (11 июня)\n- Народные выступления\, ярмарка\, национальные игры\, мастер-классы\, концерты (12–13 июня)\n- Вечерние посиделки у костра\n\n### История\n\n- 2022 (65 экипажей) — татарский «Сабантуй»\n- 2023 (140 экипажей) — татарский «Сабантуй»\n- 2024 (170 экипажей) — удмуртский «Гершыд»\n- 2025 (260 экипажей) — чувашский «Уяв»\n- 2026 (5-й юбилейный) — русская культура\, «Еремеевская ярмарка»
LOCATION:Фестивальная поляна\, Бавлы\, RU
GEO:54.4031069;53.2356367
URL:https://rvland.ru/arba-fest/
STATUS:CONFIRMED
CATEGORIES:Exhibition,RV,Camping
END:VEVENT
END:VCALENDAR
