BEGIN:VCALENDAR
VERSION:2.0
PRODID:-//OpenVan.camp//Calendar//EN
CALSCALE:GREGORIAN
METHOD:PUBLISH
BEGIN:VEVENT
UID:womo-italiano-2026@openvan.camp
DTSTAMP:20260423T205524Z
DTSTART;VALUE=DATE:20260425
DTEND;VALUE=DATE:20260427
SUMMARY:Womo Italiano
DESCRIPTION:Suncoast Wohnmobile приглашает всех интересующихся автодомами и любителей путешествий в Альсфельд 25 и 26 апреля 2026 года на итальянский весенний фестиваль. На мероприятии "Womo Italiano" посетителей ждут выходные\, наполненные средиземноморским колоритом\, интересными впечатлениями и привлекательными предложениями. В центре внимания - новейшие модели автодомов известных брендов\, а также подержанные автомобили.
LOCATION:Альсфельд\, DE
URL:https://suncoast-wohnmobile.de/womo-italiano/
STATUS:CONFIRMED
CATEGORIES:Exhibition,RV,Camping
END:VEVENT
END:VCALENDAR
