BEGIN:VCALENDAR
VERSION:2.0
PRODID:-//OpenVan.camp//Calendar//EN
CALSCALE:GREGORIAN
METHOD:PUBLISH
BEGIN:VEVENT
UID:yokohama-fruehlingsfest-2026@openvan.camp
DTSTAMP:20260422T142322Z
DTSTART;VALUE=DATE:20260424
DTEND;VALUE=DATE:20260511
SUMMARY:Йокогама Фрюлингсфест 2026
DESCRIPTION:Фрюлингсфест — это праздник\, посвященный приходу весны\, широко популярный в Германии и проводимый в различных регионах Японии. «Йокогама Фрюлингсфест» впервые состоялся в период Золотой недели 2013 года\, поскольку Йокогамские Красные Кирпичные Склады представляют собой историческое здание\, частично построенное в немецком архитектурном стиле\; в прошлом году мероприятие посетило около 390 000 человек. Выставочная зона Carstay и зона «дневного кемпинга» расположены в открытом месте с видом на море Минато Мирай и исторические Йокогамские Красные Кирпичные Склады.
LOCATION:Площадь для мероприятий Йокогамских Красных Кирпичных Складов / Парк Красного Кирпича\, Йокогама\, JP
URL:https://www.yokohama-akarenga.jp/yff/
STATUS:CONFIRMED
CATEGORIES:Exhibition,RV,Camping
END:VEVENT
END:VCALENDAR
