BEGIN:VCALENDAR
VERSION:2.0
PRODID:-//OpenVan.camp//Calendar//EN
CALSCALE:GREGORIAN
METHOD:PUBLISH
BEGIN:VEVENT
UID:latvian-caravan-club-cosplay-party-2026@openvan.camp
DTSTAMP:20260423T205524Z
DTSTART;VALUE=DATE:20260515
DTEND;VALUE=DATE:20260518
SUMMARY:Latvian Caravan Club Cosplay Party 2026
DESCRIPTION:### О событии\n\nОткрытие сезона караванеров Latvian Caravan Club на природе — слёт 2026 года\, совмещённый с тематической косплей-вечеринкой и празднованием 4-го дня рождения клуба. Три дня общения\, бани\, общего стола\, конкурса костюмов\, базарчика вещей\, шоу-программы\, торжественного выноса торта\, лотереи и салюта в кемпинге Upmalas на реке Айвиексте в Мадонском крае.\n\n### Программа\n\n**Пятница\, 15 мая — День заезда**\n\n- 15:00 — Заезд участников\, обустройство домов на колёсах\n- 17:00 — Открывается баня\n- 19:00 — Общий стол\n- 01:00 — Отбой\n\n**Суббота\, 16 мая — Главный день с косплеем**\n\n- 10:00 — Утренняя зарядка\n- 10:30 — Торжественное открытие: шествие стран с флагами в косплей-костюмах\, гимн клуба\, старт продажи лотерейных билетов\n- 12:00–13:00 — Караванерский базарчик\n- 15:00 — Обед от клуба\n- 17:00 — Снова открыта баня\n- 19:00 — Общий стол\n- 19:30 — Конкурс на лучший косплей-костюм\n- 20:00 — Шоу-программа\n- 21:00 — 4-й день рождения клуба и торт\n- 22:00 — Розыгрыш лотереи\n- 23:00 — Салют\n- 02:00 — Отбой\n\n**Воскресенье\, 17 мая — День прощаний**\n\n- 11:00 — Завтрак от клуба\n- 12:00 — Торжественное закрытие и опускание флага
LOCATION:Кемпинг Upmalas\, Ветрайне\, LV
GEO:56.6740705;26.0119469
URL:https://caravanclub.lv/en/
STATUS:CONFIRMED
CATEGORIES:Exhibition,RV,Camping
END:VEVENT
END:VCALENDAR
