BEGIN:VCALENDAR
VERSION:2.0
PRODID:-//OpenVan.camp//Calendar//EN
CALSCALE:GREGORIAN
METHOD:PUBLISH
BEGIN:VEVENT
UID:exploring-mobile-living-aesthetics-27th-beijing-2026@openvan.camp
DTSTAMP:20260423T160122Z
DTSTART;VALUE=DATE:20260319
DTEND;VALUE=DATE:20260323
SUMMARY:27-я Пекинская международная выставка автодомов и кемпинга и 32-й Китайский международный съезд автодомов и кемпинга «Исследование эстетики мобильной жизни» 2026
DESCRIPTION:27-я Пекинская международная выставка автодомов и кемпинга и 32-й Китайский международный съезд автодомов и кемпинга торжественно открылись в Международном выставочном центре Шоугана. Как ведущая выставка автодомов класса А в Китае\, это мероприятие собрало отраслевых экспертов\, популярные модели и разнообразные интерактивные мероприятия\, став как ведущей платформой для отраслевого обмена\, так и праздником для бесчисленных энтузиастов автодомов. На выставке представлены более 400 известных брендов из Китая и других стран\, в первый день её посетили 19 000 человек\, что свидетельствует о беспрецедентном внимании к отрасли.
LOCATION:Международный выставочный центр Шоугана\, Пекин\, CN
STATUS:CONFIRMED
CATEGORIES:Exhibition,RV,Camping
END:VEVENT
END:VCALENDAR
