BEGIN:VCALENDAR
VERSION:2.0
PRODID:-//OpenVan.camp//Calendar//EN
CALSCALE:GREGORIAN
METHOD:PUBLISH
BEGIN:VEVENT
UID:wp-10776@coffee.bez.coffee
DTSTAMP:20260424T031813Z
DTSTART;VALUE=DATE:20260428
DTEND;VALUE=DATE:20260504
SUMMARY:Caravan Camping Holiday Supershow 2026 — автодома и кемпинг в Сиднее
DESCRIPTION:Caravan Camping Holiday Supershow 2026 в Сиднее пройдет с 28 апреля по 3 мая. Событие объединяет в одном месте широкий выбор автодомов\, кемперов\, караванов и туристического снаряжения. На мероприятии будут представлены последние модели моторхоумов\, прицепов и палаточных прицепов\, а также современные решения для кемпинга. В рамках события предусмотрены консультации с экспертами\, тематические зоны с информацией о лучших кемпингах и парках отдыха\, сравнение туристических решений и новинок индустрии. Участники — лицензированные дилеры штата Новый Южный Уэльс\, что гарантирует соблюдение стандартов качества и сервисного обслуживания. Событие проходит на территории Rosehill Gardens Racecourse и охватывает шесть дней насыщенной программы\, ориентированной на энтузиастов автопутешествий и отдыха на колесах.
LOCATION:Австралия\, Новый Южный Уэльс 2142\, Rosehill Gardens Racecourse\, Новый Южный Уэльс\, AU
GEO:-33.82304298;151.02599706
URL:https://www.supershow.com.au/
STATUS:CONFIRMED
CATEGORIES:Exhibition,RV,Camping
END:VEVENT
END:VCALENDAR
