BEGIN:VCALENDAR
VERSION:2.0
PRODID:-//OpenVan.camp//Calendar//EN
CALSCALE:GREGORIAN
METHOD:PUBLISH
BEGIN:VEVENT
UID:caravaning-alicante-2026-1@openvan.camp
DTSTAMP:20260421T163712Z
DTSTART;VALUE=DATE:20260206
DTEND;VALUE=DATE:20260207
SUMMARY:Ярмарка Караванинга Аликанте
DESCRIPTION:Ярмарка Караванинга Аликанте открывает свои двери с целью преодолеть отметку в 20 000 посетителей. Мероприятие открылось 6 февраля 2026 года.
LOCATION:IFA – Выставка в Аликанте\, Аликанте\, ES
STATUS:CONFIRMED
CATEGORIES:Exhibition,RV,Camping
END:VEVENT
END:VCALENDAR
