BEGIN:VCALENDAR
VERSION:2.0
PRODID:-//OpenVan.camp//Calendar//EN
CALSCALE:GREGORIAN
METHOD:PUBLISH
BEGIN:VEVENT
UID:busfest-uk-2026@openvan.camp
DTSTAMP:20260424T030610Z
DTSTART;VALUE=DATE:20260911
DTEND;VALUE=DATE:20260914
SUMMARY:Busfest UK 2026
DESCRIPTION:**Busfest** — крупнейший в мире фестиваль\, посвящённый культовому фургону Volkswagen Transporter. Ежегодное мероприятие на территории Three Counties Showground в Малверне собирает тысячи поклонников VW Bus со всего мира.\n\nНа фестивале можно увидеть сотни редких и восстановленных автобусов VW всех поколений — от классических Bulli до современных Transporter. Проводятся конкурсы\, парады\, концерты и ярмарка запчастей.\n\nBusfest — это не просто выставка\, а настоящее паломничество для владельцев VW и всех\, кто ценит культуру ванлайфа и автопутешествий.
LOCATION:Выставочный центр Три Каунти\, Малверн\, GB
URL:https://busfest.org
STATUS:CONFIRMED
CATEGORIES:Exhibition,RV,Camping
END:VEVENT
END:VCALENDAR
