BEGIN:VCALENDAR
VERSION:2.0
PRODID:-//OpenVan.camp//Calendar//EN
CALSCALE:GREGORIAN
METHOD:PUBLISH
BEGIN:VEVENT
UID:outventure-berlin-2026@openvan.camp
DTSTAMP:20260424T030610Z
DTSTART;VALUE=DATE:20261126
DTEND;VALUE=DATE:20261130
SUMMARY:OutVenture Берлин 2026
DESCRIPTION:### Об OutVenture Berlin\n\nГлавная берлинская выставка активного отдыха и приключений\, объединившая бренды Auto Camping Caravan Berlin и BOOT&FUN. Караваны и кемпинг\, водный спорт\, снаряжение для приключений и путешествия.\n\n### Что ожидать\n\n- Караваны\, автодома и кемпинговое оборудование\n- Яхты и водные виды спорта\n- Снаряжение для приключений на природе\n- Туристические направления
LOCATION:Messe Berlin (Expo Center City)\, Берлин\, DE
GEO:52.5012427;13.2742108
URL:https://www.outventure-berlin.de/
STATUS:CONFIRMED
CATEGORIES:Exhibition,RV,Camping
END:VEVENT
END:VCALENDAR
