BEGIN:VCALENDAR
VERSION:2.0
PRODID:-//OpenVan.camp//Calendar//EN
CALSCALE:GREGORIAN
METHOD:PUBLISH
BEGIN:VEVENT
UID:sema-show-2026@openvan.camp
DTSTAMP:20260424T030611Z
DTSTART;VALUE=DATE:20261103
DTEND;VALUE=DATE:20261107
SUMMARY:SEMA Show 2026
DESCRIPTION:### О SEMA Show\n\nГлавное мировое отраслевое мероприятие по специализированным автомобильным продуктам с тысячами инноваций. Секция Overland Experience представляет кемперы для пикапов\, каплевидные прицепы\, переоборудованные Sprinter-фургоны и палатки на крышу.\n\n### Ключевые детали\n\n- Профессиональная выставка 3–5 ноября\n- Открыто для публики в пятницу 6 ноября\n- 99+ бесплатных профессиональных образовательных сессий\n- Секция Overland Experience с кемперами и ван-конверсиями
LOCATION:Las Vegas Convention Center\, Лас-Вегас\, US
GEO:36.1440469;-115.1547524
URL:https://www.semashow.com/
STATUS:CONFIRMED
CATEGORIES:Exhibition,RV,Camping
END:VEVENT
END:VCALENDAR
