BEGIN:VCALENDAR
VERSION:2.0
PRODID:-//OpenVan.camp//Calendar//EN
CALSCALE:GREGORIAN
METHOD:PUBLISH
BEGIN:VEVENT
UID:almeria-aventura-expo-caravaning-2026@openvan.camp
DTSTAMP:20260425T182650Z
DTSTART;VALUE=DATE:20260508
DTEND;VALUE=DATE:20260511
SUMMARY:Almería Aventura Expo & Caravaning 2026
DESCRIPTION:### О выставке\n\nВыставка приключений и караванинга в Альмерии с экспозицией активного отдыха\, караванов\, автодомов и приключенческого туризма в живописном регионе Кабо-де-Гата.\n\n### Что ожидать\n\n- Караваны и автодома\n- Снаряжение для экстремальных видов спорта\n- Активный отдых и направления\n- Природные впечатления Кабо-де-Гата
LOCATION:Palacio de Congresos de Cabo de Gata\, Альмерия\, ES
GEO:36.8414197;-2.4628135
STATUS:CONFIRMED
CATEGORIES:Exhibition,RV,Camping
END:VEVENT
END:VCALENDAR
