BEGIN:VCALENDAR
VERSION:2.0
PRODID:-//OpenVan.camp//Calendar//EN
CALSCALE:GREGORIAN
METHOD:PUBLISH
BEGIN:VEVENT
UID:venlayf-ural-osen-2026@openvan.camp
DTSTAMP:20260424T054933Z
DTSTART;VALUE=DATE:20260918
DTEND;VALUE=DATE:20260921
SUMMARY:Вэнлайф Урал: Осень 2026
DESCRIPTION:### О фестивале\n\nФестиваль для любителей отдыха на природе и путешествий на домах на колёсах. Участники могут продемонстрировать собственные дома на колёсах\, осмотреть другие автодома\, обменяться опытом с единомышленниками и насладиться временем на природе.\n\n### Программа\n\n- Выставка домов на колёсах и кемперов участников\n- Обмен опытом и мастер-классы\n- Групповые поездки по окрестностям\n- Вечерние посиделки у костра
LOCATION:Свердловская область\, RU
GEO:58.6414755;61.8021546
URL:https://vk.com/vanlifeural
STATUS:CONFIRMED
CATEGORIES:Exhibition,RV,Camping
END:VEVENT
END:VCALENDAR
