BEGIN:VCALENDAR
VERSION:2.0
PRODID:-//OpenVan.camp//Calendar//EN
CALSCALE:GREGORIAN
METHOD:PUBLISH
BEGIN:VEVENT
UID:camping-caravaning-expo-sofia-2026@openvan.camp
DTSTAMP:20260425T135520Z
DTSTART;VALUE=DATE:20260424
DTEND;VALUE=DATE:20260427
SUMMARY:Выставка кемпинга и караванинга в Софии
DESCRIPTION:Выставка Camping & Caravaning Expo пройдет в 12-й раз в София Ленд. Мероприятие представляет премьерные модели кемперов\, караванов\, автомобилей для отдыха\, кемпинговое и полное оборудование для современных кочевников. Организаторы поддерживают дело сохранения природы и поощрения устойчивого кемпинг-туризма под девизом «Приключения с заботой о природе».
LOCATION:София Ленд\, София\, BG
GEO:42.673;23.401
URL:https://camping.bg
STATUS:CONFIRMED
CATEGORIES:Exhibition,RV,Camping
END:VEVENT
END:VCALENDAR
