BEGIN:VCALENDAR
VERSION:2.0
PRODID:-//OpenVan.camp//Calendar//EN
CALSCALE:GREGORIAN
METHOD:PUBLISH
BEGIN:VEVENT
UID:aic2026@openvan.camp
DTSTAMP:20260425T195836Z
DTSTART;VALUE=DATE:20260515
DTEND;VALUE=DATE:20260518
SUMMARY:14-я Китайская международная выставка автодомов (AIC) 2026
DESCRIPTION:### О AIC 2026 — 14-я Китайская международная выставка автодомов\n\nAIC — ведущая международная выставка автодомов в Китае. Более 120 экспонентов на 30 000 м² представляют моторхоумы\, кемперы\, прицепы\, комплектующие и снаряжение для кемпинга.\n\n### Главное\n\nВыпуск 2026 года сфокусирован на кастомизации: расширенный «Фестиваль трендов кастомизации RV» совместно с APAxpo. Формат «AIC SCHOOL» предлагает интерактивное обучение о ванлайфе и путешествиях на автодоме.\n\n### Для кого\n\nAIC — главное место встречи покупателей\, дилеров\, производителей и любителей кемпинга в Китае и Азии.
LOCATION:Выставочный центр Шоуган\, Пекин\, CN
GEO:39.9061511;116.2419551
URL:https://www.aicshow.com/en
STATUS:CONFIRMED
CATEGORIES:Exhibition,RV,Camping
END:VEVENT
END:VCALENDAR
