BEGIN:VCALENDAR
VERSION:2.0
PRODID:-//OpenVan.camp//Calendar//EN
CALSCALE:GREGORIAN
METHOD:PUBLISH
BEGIN:VEVENT
UID:malvern-caravan-motorhome-show-2026@openvan.camp
DTSTAMP:20260424T054933Z
DTSTART;VALUE=DATE:20261002
DTEND;VALUE=DATE:20261005
SUMMARY:Выставка автодомов и кемперов в Малверне 2026
DESCRIPTION:Крупная выставка кемпинга и автодомов\, на которой представлены транспортные средства от 28 местных и национальных дилеров\, а также более 130 экспонентов\, предлагающих аксессуары и сезонные скидки. Мероприятие включает живые развлечения\, шоппинг\, благотворительное утро кофе Macmillan\, выставку собак и сеансы бинго. Посетители могут сравнить все виды туристических транспортных средств в одном месте\, выставка проходит в закрытых залах и на открытых выставочных площадках.
LOCATION:Выставочный центр Three Counties\, Малверн\, GB
URL:https://outandaboutlive.co.uk/shows/malvern-caravan-motorhome-show
STATUS:CONFIRMED
CATEGORIES:Exhibition,RV,Camping
END:VEVENT
END:VCALENDAR
