BEGIN:VCALENDAR
VERSION:2.0
PRODID:-//OpenVan.camp//Calendar//EN
CALSCALE:GREGORIAN
METHOD:PUBLISH
BEGIN:VEVENT
UID:marmara-kamp-karavan-ve-doga-sporlari-fuari-2026@coffee.bez.coffee
DTSTAMP:20260424T020858Z
DTSTART;VALUE=DATE:20260910
DTEND;VALUE=DATE:20260914
SUMMARY:Мраморноморская выставка кемпинга\, караванов и экстремального спорта 2026
DESCRIPTION:6-я Marmara Kamp & Karavan ve Doğa Sporları Fuarı (Ярмарка кемпинга\, караванов и природных видов спорта Marmara) проходит в Marintürk İstanbul City Port в Пендике\, предлагая уникальную приморскую обстановку на побережье Мраморного моря. Ежегодное мероприятие демонстрирует автодома\, прицепные караваны\, крошечные дома\, кемпинговое снаряжение\, снаряжение для активного отдыха на природе\, водные виды спорта и товары для приключенческого туризма.\n\n### Чего ожидать\n\n**Выставка караванов и автодомов:** Исследуйте караваны и автодома в живописной гавани с живыми демонстрациями и экспертными консультациями.\n\n**Деревня крошечных домов:** Инновационные дизайны для микрожилья в открытой выставочной зоне с прямым видом на море.\n\n**Активный отдых на природе и водные виды спорта:** Снаряжение для каякинга\, SUP\, дайвинга\, велоспорта и пеших походов — идеально подходящее для морского расположения.\n\n**Зона природных видов спорта:** Снаряжение для скалолазания\, трейлраннинга\, парапланеризма и приключенческих видов спорта.\n\n**Рынок кемпингового снаряжения:** Палатки\, гамаки\, кухонные системы\, солнечные панели и все необходимое для отдыха на природе.\n\n**Семинары и мастер-классы:** Экспертные дискуссии об устойчивом туризме\, маршрутах для ванлайфа и навыках для активного отдыха на природе.\n\n---\n\n**Официальный сайт:** <https://marmarakampkaravanf.com/>\n**Организатор:** Anadolu Ekspo
LOCATION:Marintürk İstanbul City Port\, Стамбул\, TR
GEO:40.8712023;29.2356794
URL:https://marmarakampkaravanf.com/
STATUS:CONFIRMED
CATEGORIES:Exhibition,RV,Camping
END:VEVENT
END:VCALENDAR
