BEGIN:VCALENDAR
VERSION:2.0
PRODID:-//OpenVan.camp//Calendar//EN
CALSCALE:GREGORIAN
METHOD:PUBLISH
BEGIN:VEVENT
UID:karavan-show-eurasia-bursa-2026@coffee.bez.coffee
DTSTAMP:20260424T031517Z
DTSTART;VALUE=DATE:20260421
DTEND;VALUE=DATE:20260427
SUMMARY:Караван-шоу Евразия Бурса 2026
DESCRIPTION:Karavan Show Eurasia Bursa — одна из крупнейших в Турции региональных выставок караванов и товаров для активного отдыха на открытом воздухе\, проводимая в выставочном центре Bursa Fair Center. Мероприятие площадью примерно 17 000 м² объединяет более 150 компаний-экспонентов и более 250 брендов\, представляющих автодома\, прицепные караваны\, крошечные дома\, туристическое снаряжение\, экипировку для активного отдыха и автомобильные аксессуары.\n\n### Основные разделы выставки\n\n**Зал караванов и автодомов:** Широкий выбор караванов и автодомов от ведущих турецких дистрибьюторов и международных брендов с возможностью тест-драйвов.\n\n**Деревня крошечных домов:** Зайдите внутрь инновационных проектов крошечных домов и пообщайтесь напрямую со строителями и дизайнерами.\n\n**Зона кемпинга и активного отдыха:** Палатки\, спальные системы\, оборудование для приготовления пищи\, солнечные панели\, портативные электростанции и все необходимое для отдыха на природе.\n\n**Секция приключений и спорта:** Велосипеды\, электровелосипеды\, каяки\, снаряжение для пеших походов и аксессуары для приключенческих путешествий.\n\n**Автомобильная зона:** Внедорожники 4x4\, офф-роуд тюнинг\, палатки на крышу и экспедиционное оборудование.\n\n**Развлечения для всей семьи:** Активности и демонстрации на протяжении всех шести дней мероприятия.\n\n---\n\n**Официальный сайт:** <https://bursakaravanshow.com/>\n**Организатор:** BİFAŞ (Birleşik Fuar Yapım A.Ş.)
LOCATION:Bursa Fuar Merkezi\, Бурса\, TR
GEO:40.2302891;29.0678988
URL:https://bursakaravanshow.com/
STATUS:CONFIRMED
CATEGORIES:Exhibition,RV,Camping
END:VEVENT
END:VCALENDAR
