BEGIN:VCALENDAR
VERSION:2.0
PRODID:-//OpenVan.camp//Calendar//EN
CALSCALE:GREGORIAN
METHOD:PUBLISH
BEGIN:VEVENT
UID:naturfest-kamp-karavan-ve-doga-sporlari-fuari-2026@coffee.bez.coffee
DTSTAMP:20260424T004329Z
DTSTART;VALUE=DATE:20260430
DTEND;VALUE=DATE:20260504
SUMMARY:NaturFest — выставка кемпинга\, караванов и экстремального спорта 2026
DESCRIPTION:Вторая выставка NaturFest Camping\, Caravan и Nature Sports Fair проходит в выставочном центре Yenikapı Avrasya в Стамбуле. Мероприятие площадью 21 000 м² объединяет более 100 компаний-экспонентов и более 200 брендов\, демонстрирующих автодома\, прицепные караваны\, крошечные дома\, солнечные энергосистемы\, снаряжение для кемпинга\, оборудование для охоты и рыбалки\, а также товары для активного отдыха на природе.\n\n### Чего ожидать\n\n**Выставка караванов и автодомов:** Протестируйте новейшие автодома и караваны от ведущих производителей и изучите широкий спектр аксессуаров и вариантов кастомизации.\n\n**Деревня крошечных домов:** Специальная открытая площадка с моделями крошечных домов\, в которые можно зайти и обсудить их с строителями.\n\n**Зона активного отдыха и спорта на природе:** Снаряжение для каякинга\, велоспорта\, скалолазания и других видов спорта для приключений от ведущих брендов.\n\n**Семинары и панельные дискуссии:** Экспертные выступления об устойчивых путешествиях\, ванлайфе и обслуживании караванов.\n\n**Развлечения:** Вечерние мероприятия\, живая музыка и фуд-корты дополняют четырёхдневную программу.\n\n### Вход\n\nБесплатный вход — ограниченное количество билетов доступно через онлайн-регистрацию на naturfest.expokayit.com.\n\n---\n\n**Регистрация:** <https://naturfest.expokayit.com>\n**Instagram:** <https://www.instagram.com/naturfesturkiye/>\n**Facebook:** <https://www.facebook.com/NaturFesturkiye>
LOCATION:Выставочный и мероприятийный центр Еникапы Евразия\, Стамбул\, TR
GEO:41.0162938;28.9826435
URL:https://www.naturfest.net/
STATUS:CONFIRMED
CATEGORIES:Exhibition,RV,Camping
END:VEVENT
END:VCALENDAR
