BEGIN:VCALENDAR
VERSION:2.0
PRODID:-//OpenVan.camp//Calendar//EN
CALSCALE:GREGORIAN
METHOD:PUBLISH
BEGIN:VEVENT
UID:madrid-expo-camper-caravan-2026@coffee.bez.coffee
DTSTAMP:20260424T044540Z
DTSTART;VALUE=DATE:20261204
DTEND;VALUE=DATE:20261209
SUMMARY:Madrid Expo Camper & Caravan 2026
DESCRIPTION:Madrid Expo Camper & Caravan (MECC) — ведущая профессиональная выставка автодомов и караванов в Испании\, проводимая в IFEMA Madrid. Пятидневное мероприятие включает более 100 экспонентов\, демонстрирующих автодома\, кемперы\, караваны\, аксессуары и туристические направления. В программе живая музыка\, мастер-классы и нетворкинг-мероприятия.
LOCATION:IFEMA Мадрид\, Мадрид\, ES
GEO:40.4660174;-3.6131763
URL:https://www.caravaningexpo.com/
STATUS:CONFIRMED
CATEGORIES:Exhibition,RV,Camping
END:VEVENT
END:VCALENDAR
